
BEGIN:VCALENDAR
VERSION:2.0
PRODID:-//一般社団法人日本プロパッティング協会 - ECPv5.3.0//NONSGML v1.0//EN
CALSCALE:GREGORIAN
METHOD:PUBLISH
X-WR-CALNAME:一般社団法人日本プロパッティング協会
X-ORIGINAL-URL:https://proputting.org
X-WR-CALDESC:一般社団法人日本プロパッティング協会 のイベント
BEGIN:VTIMEZONE
TZID:Asia/Tokyo
BEGIN:STANDARD
TZOFFSETFROM:+0900
TZOFFSETTO:+0900
TZNAME:JST
DTSTART:20230101T000000
END:STANDARD
END:VTIMEZONE
BEGIN:VEVENT
DTSTART;TZID=Asia/Tokyo:20231118T110000
DTEND;TZID=Asia/Tokyo:20231119T170000
DTSTAMP:20260424T213139
CREATED:20230808T015034Z
LAST-MODIFIED:20231114T012106Z
UID:5374-1700305200-1700413200@proputting.org
SUMMARY:第3回 プロパッティングツアー全日本選手権
DESCRIPTION:第3回 プロパッティングツアー全日本選手権\n11月18日（土）・19日（日）に兵庫県・新宝塚カントリークラブ様にて、「第3回 プロパッティングツアー全日本選手権」を開催いたします！ \n賞金総額 300万円は誰が掴みとるのか！？ グリーン上での冷静でも熱い戦いになること間違いなし！ \nギャラリー観戦について\n当日の観戦は無料です。（ゴルフウェアでのご来場にご協力ください） \nご来場の際は、各自でご手配ください。（バスなどの送迎はありません） \n \n会場\n新宝塚カントリークラブ \n〒669-1241 兵庫県宝塚市切畑 検見1-2 \nTEL：  0797-91-0241 \n[URL] http://www.shintaka.com/ \n※イベントについてゴルフ場様へのお問い合わせはお控えください。 \n日程\n11月18日(土)・19日(日) 11時〜15時 \n賞金総額\n3\,000\,000円 \n賞金内訳\n優勝 1\,000\,000円\n準優勝 500\,000円\n第3位 300\,000円\n第4位 250\,000円\n第5位 200\,000円\n第6位 150\,000円\n第7位・第8位 100\,000円\n第9位〜第16位 50\,000円 \n同一順位に複数名、受け取り対象となった際には、均等割とします。 \n参加資格\nプロパッティングツアー 2023でのポイントランキング上位者 \n※出場資格の確認は[ こちら ] \n注意\n全体ポイントランキング（以下、全体枠） \n・新人ポイントランキング（以下、新人枠）の双方で参加権利を取得している場合は、新人枠での参加となります。 \nその場合、全体枠の中での参加者の繰り下げでの参加権利の振り分けを行います。 \n大会スケジュールについて\n全参加選手受付：9:45〜10:15 \n参加選手ミーティング：10:20〜10:35 \n \n結果（Result）\n※項目をクリックすると、対象競技の結果へジャンプします。 \n◉11月18日◉\n・Day.1 ラウンド \n◉11月19日◉\n・Day.2 ラウンド \n・決勝ラウンド \n・ファイナルラウンド \n \n・Day.1 ラウンド\n全選手が36ホールのラウンドを行う。\n \n \n・Day.2 ラウンド\n全選手が18ホールのラウンドを行う。\n \n \n・決勝ラウンド\nDay.1の36ホールとDay.2の18ホールの合計54ホール（予選ラウンド）のスコアを合計し、上位 最大10名が参加できる。\n5ホールのラウンド\n予選ラウンドと決勝ラウンドの合計で争う。\n \n・ファイナルラウンド\n決勝ラウンド参加選手 上位5名が3ホールをラウンドする。\n全競技の合計スコアで決する。\n \nキャンセル（返金）について\n参加者様都合によるお申込み後のキャンセルおよび返金はお受けしておりません。予めご了承ください。 \nイベントにおける注意事項\n・事故・混乱防止のため、スタッフの指示には必ず従ってください。 スタッフの指示及び注意事項に従って頂けない場合、参加をお断りする場合や、イベント自体を中止することがあります。 \n・スタッフがお客様を誘導する際、スタッフがお客様の肩や腕などに触れて誘導する場合がございます。予めご了承ください。 \n・主催者の判断によっては、ご入場の際に持ち込み禁止物確認の為、お手荷物のチェックをさせていただく場合がございます。 \n・会場内でスタッフの指示及び注意事項に従わずに生じた事故については、主催者は一切責任を負いません。 \n・自然災害、プロやその他の都合により、やむを得ずイベントの全部または一部を中止または変更させていただく場合があります。予めご了承ください。 \n・イベントが中止、延期となった場合も交通費や宿泊費等の補償は致しません。 ・お客様がご利用になられる交通機関の麻痺等による、期日や座席の変更、払い戻しはいたしません。 \n・イベントの模様は撮影される場合がございます。その場合、お客様が写り込む場合もございますので、予めご了承ください。 \n 
URL:https://proputting.org/event/3rd-japan-championship/
LOCATION:新宝塚カントリークラブ\, 切畑 検見1-2\, 宝塚市\, 兵庫県\, 669-1241\, 日本
ATTACH;FMTTYPE=image/jpeg:https://proputting.org/wp-content/uploads/2023/08/PA-2023全日本選手権-web.jpg
END:VEVENT
END:VCALENDAR